BEGIN:VCALENDAR
VERSION:2.0
PRODID:-//wp-events-plugin.com//7.2.3.1//EN
BEGIN:VEVENT
UID:420@adventgemeinde-dresden.de
DTSTART;TZID=Europe/Berlin:20260521T143000
DTEND;TZID=Europe/Berlin:20260521T173000
DTSTAMP:20260101T212538Z
URL:https://adventgemeinde-dresden.de/veranstaltungen/die-checker-in-loebt
 au-2026-01-08-2026-01-15-2026-01-22-2026-01-29-2026-02-05-2026-02-12-2026-
 02-19-2026-02-26-2026-03-05-2026-03-12-2026-03-19-2026-03-26-2026-04-02-20
 26-04-09-2026-04-1-14-2026-05-21/
SUMMARY:Die Checker in Löbtau
DESCRIPTION:Herzlich Willkommen bei den Checkern in Löbtau!\n\nWenn du Hil
 fe beim Lernen oder deinen Hausaufgaben suchst\, bist du hier genau richti
 g! Wir wollen dir dort helfen\, wo du Unterstützung brauchst – egal ob 
 Deutsch\, Mathe\, Englisch oder manches andere. Gemeinsam kriegen wir das 
 hin!\nNach dem Lernen hört der Spaß übrigens nicht auf: Zusammen könne
 n wir dann kickern\, Tischtennis spielen und vieles mehr!\nAlso komm vorbe
 i! Wir freuen uns auf dich! =)\n\n(Klingel: Adventgemeinde 2. Obergeschoss
 /Checker)
ATTACH;FMTTYPE=image/jpeg:https://adventgemeinde-dresden.de/wp-content/upl
 oads/2023/10/veranstaltung-die-checker-in-loebtau-teaserbild.jpg
CATEGORIES:Die Checker in Löbtau
LOCATION:Adventgemeinde Dresden-West – 2. Obergeschoss\, Poststraße 13\,
  Dresden\, 01159\, Deutschland
X-APPLE-STRUCTURED-LOCATION;VALUE=URI;X-ADDRESS=Poststraße 13\, Dresden\, 
 01159\, Deutschland;X-APPLE-RADIUS=100;X-TITLE=Adventgemeinde Dresden-West
  – 2. Obergeschoss:geo:0,0
END:VEVENT
BEGIN:VTIMEZONE
TZID:Europe/Berlin
X-LIC-LOCATION:Europe/Berlin
BEGIN:DAYLIGHT
DTSTART:20260329T030000
TZOFFSETFROM:+0100
TZOFFSETTO:+0200
TZNAME:CEST
END:DAYLIGHT
END:VTIMEZONE
END:VCALENDAR