BEGIN:VCALENDAR
VERSION:2.0
PRODID:-//wp-events-plugin.com//7.2.3.1//EN
BEGIN:VEVENT
UID:117@adventgemeinde-dresden.de
DTSTART;TZID=Europe/Berlin:20241102T090000
DTEND;TZID=Europe/Berlin:20241102T120000
DTSTAMP:20241029T113508Z
URL:https://adventgemeinde-dresden.de/veranstaltungen/gottesdienst-2024-11
 -02/
SUMMARY:Kinder- und Familienmitmachkonzert mit Ralf Helfrich
DESCRIPTION:[et_pb_section fb_built="1" _builder_version="4.16" global_colo
 rs_info="{}"][et_pb_row _builder_version="4.16" background_size="initial" 
 background_position="top_left" background_repeat="repeat" global_colors_in
 fo="{}"][et_pb_column type="4_4" _builder_version="4.16" custom_padding="|
 ||" global_colors_info="{}" custom_padding__hover="|||"][et_pb_text _build
 er_version="4.27.0" background_size="initial" background_position="top_lef
 t" background_repeat="repeat" global_colors_info="{}"]Herzliche Einladung 
 zu unserem Gottesdienst im Gemeindezentrum Dresden-West!\nBereits um 9:00 
 Uhr treffen wir uns gemeinsam zum Frühstück im zweiten Obergeschoss. Zur
  besseren Planung bitten wir alle\, die am Frühstück teilnehmen möchten
 \, sich hier einzutragen.\nParallel dazu findet im Untergeschoss das Bibe
 lgespräch statt.\nAb 10:00 Uhr findet dann das Kindermitmachkonzert mit R
 alf Helfrich statt.\nGut zu wissen:\n\nfreundliche Saaldiakone stehen als 
 Ansprechpartner bereit\ndas Gemeindezentrum ist barrierefrei\nLiederbüche
 r und Bibeln können vor Ort ausgeliehen werden.\n\n&nbsp\;[/et_pb_text][e
 t_pb_gallery gallery_ids="7370\,7369" _builder_version="4.27.0" _module_pr
 eset="default" global_colors_info="{}"][/et_pb_gallery][/et_pb_column][/et
 _pb_row][/et_pb_section]
ATTACH;FMTTYPE=image/jpeg:https://adventgemeinde-dresden.de/wp-content/upl
 oads/2023/10/Dresden-1.jpg
CATEGORIES:Gottesdienst
LOCATION:Adventgemeinde Dresden-West\, Poststraße 13\, Dresden\, 01159\, D
 eutschland
X-APPLE-STRUCTURED-LOCATION;VALUE=URI;X-ADDRESS=Poststraße 13\, Dresden\, 
 01159\, Deutschland;X-APPLE-RADIUS=100;X-TITLE=Adventgemeinde Dresden-West
 :geo:0,0
END:VEVENT
BEGIN:VTIMEZONE
TZID:Europe/Berlin
X-LIC-LOCATION:Europe/Berlin
BEGIN:STANDARD
DTSTART:20241027T020000
TZOFFSETFROM:+0200
TZOFFSETTO:+0100
TZNAME:CET
END:STANDARD
END:VTIMEZONE
END:VCALENDAR