BEGIN:VCALENDAR
VERSION:2.0
PRODID:-//wp-events-plugin.com//7.2.3.1//EN
BEGIN:VEVENT
UID:531@adventgemeinde-dresden.de
DTSTART;TZID=Europe/Berlin:20260425T100000
DTEND;TZID=Europe/Berlin:20260425T120000
DTSTAMP:20260414T121155Z
URL:https://adventgemeinde-dresden.de/veranstaltungen/jugendaufnahmegottes
 dienst-im-adventhaus/
SUMMARY:Jugendaufnahmegottesdienst im Adventhaus
DESCRIPTION:Am 25.04. findet im Adventhaus in der Haydnstraße der Jugendau
 fnahmegottesdienst statt.\n\nAn diesem Tag gibt es daher keinen Gottesdien
 st in Dresden-West.\n\nDas Adventhaus ist barrierefrei (Aufzug\; behindert
 engerechte Toilette\; Hörschleife und Kopfhörer).\n\n&nbsp\;\n\nWeitere 
 Informationen findet ihr auf der Webseite des Adventhaus:\nhttps://adventh
 aus-dresden.de/termine/jugendaufnahmegottesdienst/
ATTACH;FMTTYPE=image/jpeg:https://adventgemeinde-dresden.de/wp-content/upl
 oads/2022/09/i06009-2154217195.jpg
CATEGORIES:Gottesdienst
LOCATION:Adventhaus Dresden\, Haydnstraße 16\, Dresden\, 01309\, Deutschla
 nd
X-APPLE-STRUCTURED-LOCATION;VALUE=URI;X-ADDRESS=Haydnstraße 16\, Dresden\,
  01309\, Deutschland;X-APPLE-RADIUS=100;X-TITLE=Adventhaus Dresden:geo:0,0
END:VEVENT
BEGIN:VTIMEZONE
TZID:Europe/Berlin
X-LIC-LOCATION:Europe/Berlin
BEGIN:DAYLIGHT
DTSTART:20260329T030000
TZOFFSETFROM:+0100
TZOFFSETTO:+0200
TZNAME:CEST
END:DAYLIGHT
END:VTIMEZONE
END:VCALENDAR