BEGIN:VCALENDAR
VERSION:2.0
PRODID:-//wp-events-plugin.com//7.2.3.1//EN
BEGIN:VEVENT
UID:530@adventgemeinde-dresden.de
DTSTART;TZID=Europe/Berlin:20261217T183000
DTEND;TZID=Europe/Berlin:20261217T210000
DTSTAMP:20260412T125922Z
URL:https://adventgemeinde-dresden.de/veranstaltungen/salon-christa-christ
 lich-studentische-akademisch-8/
SUMMARY:Salon ChriStA - Christlich Studentisch Akademisch
DESCRIPTION:Der Salon ChriStA öffnet einmal im Monat am Donnerstag seine T
 üren für junge Studenten und Akademiker und bietet ein christliches Zuha
 use. Gemeinsames Abendbrot\, kompetente Themen und ausreichend Zeit für g
 emeinsames Gespräch schaffen einen liebevollen Raum für Begegnung und Au
 stausch.\n\nSalon ChriStA opens its doors once a month on Thursdays for yo
 ung students and academics\, offering a Christian home. A shared supper\, 
 engaging discussions\, and ample time for conversation create a welcoming 
 space for fellowship and exchange.
ATTACH;FMTTYPE=image/jpeg:https://adventgemeinde-dresden.de/wp-content/upl
 oads/2026/04/Gruppe-scaled.jpg
CATEGORIES:Hauskreis
LOCATION:Familie Hofmeister\, Kaitzer Str. 108\, Dresden\, 
X-APPLE-STRUCTURED-LOCATION;VALUE=URI;X-ADDRESS=Kaitzer Str. 108\, Dresden\
 , ;X-APPLE-RADIUS=100;X-TITLE=Familie Hofmeister:geo:0,0
END:VEVENT
BEGIN:VTIMEZONE
TZID:Europe/Berlin
X-LIC-LOCATION:Europe/Berlin
BEGIN:STANDARD
DTSTART:20261025T020000
TZOFFSETFROM:+0200
TZOFFSETTO:+0100
TZNAME:CET
END:STANDARD
END:VTIMEZONE
END:VCALENDAR